BEGIN:VCALENDAR
VERSION:2.0
PRODID:icalendar-ruby
CALSCALE:GREGORIAN
METHOD:PUBLISH
BEGIN:VEVENT
DTSTAMP:20260422T011447Z
UID:12-297069@zoarwv.com
DTSTART:20261101T160000Z
DTEND:20261101T171000Z
CLASS:PUBLIC
CREATED:20260421T185958
DESCRIPTION:
LAST-MODIFIED:20260421T185958
LOCATION:
SUMMARY:Worship Service
URL;VALUE=URI:https://www.zoarwv.com/events/worship-service--12/2026-11-01
END:VEVENT
END:VCALENDAR
