BEGIN:VCALENDAR
VERSION:2.0
PRODID:icalendar-ruby
CALSCALE:GREGORIAN
METHOD:PUBLISH
BEGIN:VEVENT
DTSTAMP:20260421T232742Z
UID:12-297068@zoarwv.com
DTSTART:20261025T150000Z
DTEND:20261025T161000Z
CLASS:PUBLIC
CREATED:20260421T185958
DESCRIPTION:
LAST-MODIFIED:20260421T185958
LOCATION:
SUMMARY:Worship Service
URL;VALUE=URI:https://www.zoarwv.com/events/worship-service--12/2026-10-25
END:VEVENT
END:VCALENDAR
