BEGIN:VCALENDAR
VERSION:2.0
PRODID:icalendar-ruby
CALSCALE:GREGORIAN
METHOD:PUBLISH
BEGIN:VEVENT
DTSTAMP:20260421T215012Z
UID:12-296917@zoarwv.com
DTSTART:20261018T150000Z
DTEND:20261018T161000Z
CLASS:PUBLIC
CREATED:20260421T162115
DESCRIPTION:
LAST-MODIFIED:20260421T162115
LOCATION:
SUMMARY:Worship Service
URL;VALUE=URI:https://www.zoarwv.com/events/worship-service--12/2026-10-18
END:VEVENT
END:VCALENDAR
