BEGIN:VCALENDAR
VERSION:2.0
PRODID:icalendar-ruby
CALSCALE:GREGORIAN
METHOD:PUBLISH
BEGIN:VEVENT
DTSTAMP:20260421T185259Z
UID:12-296765@zoarwv.com
DTSTART:20261004T150000Z
DTEND:20261004T161000Z
CLASS:PUBLIC
CREATED:20260421T134533
DESCRIPTION:
LAST-MODIFIED:20260421T134533
LOCATION:
SUMMARY:Worship Service
URL;VALUE=URI:https://www.zoarwv.com/events/worship-service--12/2026-10-04
END:VEVENT
END:VCALENDAR
