BEGIN:VCALENDAR
VERSION:2.0
PRODID:icalendar-ruby
CALSCALE:GREGORIAN
METHOD:PUBLISH
BEGIN:VEVENT
DTSTAMP:20260421T154633Z
UID:12-296613@zoarwv.com
DTSTART:20260920T150000Z
DTEND:20260920T161000Z
CLASS:PUBLIC
CREATED:20260421T110521
DESCRIPTION:
LAST-MODIFIED:20260421T110521
LOCATION:
SUMMARY:Worship Service
URL;VALUE=URI:https://www.zoarwv.com/events/worship-service--12/2026-09-20
END:VEVENT
END:VCALENDAR
