BEGIN:VCALENDAR
VERSION:2.0
PRODID:icalendar-ruby
CALSCALE:GREGORIAN
METHOD:PUBLISH
BEGIN:VEVENT
DTSTAMP:20260421T140838Z
UID:12-296462@zoarwv.com
DTSTART:20260913T150000Z
DTEND:20260913T161000Z
CLASS:PUBLIC
CREATED:20260421T082948
DESCRIPTION:
LAST-MODIFIED:20260421T082948
LOCATION:
SUMMARY:Worship Service
URL;VALUE=URI:https://www.zoarwv.com/events/worship-service--12/2026-09-13
END:VEVENT
END:VCALENDAR
