BEGIN:VCALENDAR
VERSION:2.0
PRODID:icalendar-ruby
CALSCALE:GREGORIAN
METHOD:PUBLISH
BEGIN:VEVENT
DTSTAMP:20260422T011448Z
UID:10-296969@zoarwv.com
DTSTART:20261101T133000Z
DTEND:20261101T143000Z
CLASS:PUBLIC
CREATED:20260421T185957
DESCRIPTION:
LAST-MODIFIED:20260421T185957
LOCATION:
SUMMARY:Worship Service 
URL;VALUE=URI:https://www.zoarwv.com/events/worship-service--10/2026-11-01
END:VEVENT
END:VCALENDAR
