BEGIN:VCALENDAR
VERSION:2.0
PRODID:icalendar-ruby
CALSCALE:GREGORIAN
METHOD:PUBLISH
BEGIN:VEVENT
DTSTAMP:20260421T234006Z
UID:10-296968@zoarwv.com
DTSTART:20261025T123000Z
DTEND:20261025T133000Z
CLASS:PUBLIC
CREATED:20260421T185957
DESCRIPTION:
LAST-MODIFIED:20260421T185957
LOCATION:
SUMMARY:Worship Service 
URL;VALUE=URI:https://www.zoarwv.com/events/worship-service--10/2026-10-25
END:VEVENT
END:VCALENDAR
