BEGIN:VCALENDAR
VERSION:2.0
PRODID:icalendar-ruby
CALSCALE:GREGORIAN
METHOD:PUBLISH
BEGIN:VEVENT
DTSTAMP:20260421T202557Z
UID:10-296816@zoarwv.com
DTSTART:20261011T123000Z
DTEND:20261011T133000Z
CLASS:PUBLIC
CREATED:20260421T162115
DESCRIPTION:
LAST-MODIFIED:20260421T162115
LOCATION:
SUMMARY:Worship Service 
URL;VALUE=URI:https://www.zoarwv.com/events/worship-service--10/2026-10-11
END:VEVENT
END:VCALENDAR
