BEGIN:VCALENDAR
VERSION:2.0
PRODID:icalendar-ruby
CALSCALE:GREGORIAN
METHOD:PUBLISH
BEGIN:VEVENT
DTSTAMP:20260421T185342Z
UID:10-296665@zoarwv.com
DTSTART:20261004T123000Z
DTEND:20261004T133000Z
CLASS:PUBLIC
CREATED:20260421T134533
DESCRIPTION:
LAST-MODIFIED:20260421T134533
LOCATION:
SUMMARY:Worship Service 
URL;VALUE=URI:https://www.zoarwv.com/events/worship-service--10/2026-10-04
END:VEVENT
END:VCALENDAR
