BEGIN:VCALENDAR
VERSION:2.0
PRODID:icalendar-ruby
CALSCALE:GREGORIAN
METHOD:PUBLISH
BEGIN:VEVENT
DTSTAMP:20260421T171524Z
UID:10-296514@zoarwv.com
DTSTART:20260927T123000Z
DTEND:20260927T133000Z
CLASS:PUBLIC
CREATED:20260421T110521
DESCRIPTION:
LAST-MODIFIED:20260421T110521
LOCATION:
SUMMARY:Worship Service 
URL;VALUE=URI:https://www.zoarwv.com/events/worship-service--10/2026-09-27
END:VEVENT
END:VCALENDAR
