BEGIN:VCALENDAR
VERSION:2.0
PRODID:icalendar-ruby
CALSCALE:GREGORIAN
METHOD:PUBLISH
BEGIN:VEVENT
DTSTAMP:20260421T135617Z
UID:10-296362@zoarwv.com
DTSTART:20260913T123000Z
DTEND:20260913T133000Z
CLASS:PUBLIC
CREATED:20260421T082948
DESCRIPTION:
LAST-MODIFIED:20260421T082948
LOCATION:
SUMMARY:Worship Service 
URL;VALUE=URI:https://www.zoarwv.com/events/worship-service--10/2026-09-13
END:VEVENT
END:VCALENDAR
