BEGIN:VCALENDAR
VERSION:2.0
PRODID:icalendar-ruby
CALSCALE:GREGORIAN
METHOD:PUBLISH
BEGIN:VEVENT
DTSTAMP:20260421T122833Z
UID:10-296211@zoarwv.com
DTSTART:20260906T123000Z
DTEND:20260906T133000Z
CLASS:PUBLIC
CREATED:20260420T212211
DESCRIPTION:
LAST-MODIFIED:20260420T212211
LOCATION:
SUMMARY:Worship Service 
URL;VALUE=URI:https://www.zoarwv.com/events/worship-service--10/2026-09-06
END:VEVENT
END:VCALENDAR
