BEGIN:VCALENDAR
VERSION:2.0
PRODID:icalendar-ruby
CALSCALE:GREGORIAN
METHOD:PUBLISH
BEGIN:VEVENT
DTSTAMP:20260422T143742Z
UID:11-297319@zoarwv.com
DTSTART:20261101T144500Z
DTEND:20261101T154500Z
CLASS:PUBLIC
CREATED:20260422T084653
DESCRIPTION:Adult class in the Sanctuary\nKids classes in the classrooms - 
 nursery\, grades K-2\, grades 3-5\nTeen study class in the classroom - gra
 des 6-12
LAST-MODIFIED:20260422T084653
LOCATION:
SUMMARY:Sunday School
URL;VALUE=URI:https://www.zoarwv.com/events/sunday-school/2026-11-01
END:VEVENT
END:VCALENDAR
