BEGIN:VCALENDAR
VERSION:2.0
PRODID:icalendar-ruby
CALSCALE:GREGORIAN
METHOD:PUBLISH
BEGIN:VEVENT
DTSTAMP:20260422T020121Z
UID:11-297161@zoarwv.com
DTSTART:20260906T134500Z
DTEND:20260906T144500Z
CLASS:PUBLIC
CREATED:20260421T213815
DESCRIPTION:Adult class in the Sanctuary\nKids classes in the classrooms - 
 nursery\, grades K-2\, grades 3-5\nTeen study class in the classroom - gra
 des 6-12
LAST-MODIFIED:20260421T213815
LOCATION:
SUMMARY:Sunday School
URL;VALUE=URI:https://www.zoarwv.com/events/sunday-school/2026-09-06
END:VEVENT
END:VCALENDAR
